BEGIN:VCALENDAR
VERSION:2.0
PRODID:-//Li&#039;l Abner Foundation - ECPv6.0.9//NONSGML v1.0//EN
CALSCALE:GREGORIAN
METHOD:PUBLISH
X-WR-CALNAME:Li&#039;l Abner Foundation
X-ORIGINAL-URL:https://www.lilabnerfoundation.org
X-WR-CALDESC:Events for Li&#039;l Abner Foundation
REFRESH-INTERVAL;VALUE=DURATION:PT1H
X-Robots-Tag:noindex
X-PUBLISHED-TTL:PT1H
BEGIN:VTIMEZONE
TZID:UTC
BEGIN:STANDARD
TZOFFSETFROM:+0000
TZOFFSETTO:+0000
TZNAME:UTC
DTSTART:20260101T000000
END:STANDARD
END:VTIMEZONE
BEGIN:VEVENT
DTSTART;TZID=UTC:20260425T090000
DTEND;TZID=UTC:20260425T130000
DTSTAMP:20260425T014856
CREATED:20260114T214105Z
LAST-MODIFIED:20260424T203917Z
UID:4124-1777107600-1777122000@www.lilabnerfoundation.org
SUMMARY:Li’l Abner Spring Arrow Indoor Club Shoot
DESCRIPTION:This is a USA Archery–sanctioned local club tournament hosted by the Li’l Abner Foundation Archery Club. The event is open to Junior Olympic Archery Development (JOAD) participants and Adult members\, and will be conducted in accordance with USA Archery rules.\n\nJOAD 60-Arrow Indoor Round (USA Archery Format)\nThe JOAD 60-Arrow Indoor Round is a USA Archery–recognized competition format used at JOAD events nationwide. The round is conducted under current USA Archery Rules and Policies. \nRound Description \n\nThe round consists of 60 arrows\nArrows are shot in ends of three (3) arrows\nA total of 20 ends are shot\nTime limit: 2 minutes per 3-arrow end\nShooting Classes: U13\, U15\, U18\, U21\, Senior and 50+ Male and Female\nDivisions: Barebow\, Basic Compound\, Recurve\, Compound\, Longbow and Fixed Pins\n\nThank you all the participants. The registration for this event is now Closed. \n  \n  \n \nVIEW RESULTS\n 
URL:https://www.lilabnerfoundation.org/event/lil-abner-spring-arrow-indoor-club-shoot/
LOCATION:Li’l Abner Foundation\, 11387 West Flagler Street\, Miami\, FL\, 33174\, United States
ATTACH;FMTTYPE=image/png:https://www.lilabnerfoundation.org/wp-content/uploads/2026/01/Lil-Abner-Spring-indoor-shoot-logo.png
ORGANIZER;CN="Li%27l%20Abner%20Foundation":MAILTO:lilabnerfoundation@gmail.com
END:VEVENT
END:VCALENDAR